BEGIN:VCALENDAR
VERSION:2.0
PRODID:-//ExpressionEngine Easy iCalendar plugin//NONSGML v2.0.0//EN
X-WR-TIMEZONE:America/New_York
X-WR-CALNAME:Upcoming Auctions
BEGIN:VEVENT
UID:73065
DTSTAMP:20211128T150000
DTSTART:20211128T150000
DTEND:20211207T190000
SUMMARY:Huffman's Auctions
LOCATION:2463 Beech Ave\, Buena Vista\, VA 24416\, US
DESCRIPTION:PLEASE READ ALL TERMS AND CONDITIONS!!!! Estate and Personal
  Property Auction. Starting November 28th at 3pm\, Ending TUE
 SDAY December 7th at 7pm. Viewing will be on SUNDAY\, Decembe
 r 5th\, from 1pm-3pm. Pick Up will be on Wednesday\, December 
 8th\, from 10am-6pm. ONE DAY PICK UP ONLY!!!!! Items not pick
 ed up on Wednesday\, December 8th\, will be discarded unless p
 rearrangement's are made.
URL:https://www.huffmansauctions.com/auctions/detail/bw73065
SEQUENCE:1
END:VEVENT
END:VCALENDAR