BEGIN:VCALENDAR
VERSION:2.0
PRODID:-//ExpressionEngine Easy iCalendar plugin//NONSGML v2.0.0//EN
X-WR-TIMEZONE:America/New_York
X-WR-CALNAME:Upcoming Auctions
BEGIN:VEVENT
UID:67689
DTSTAMP:20210807T080000
DTSTART:20210807T080000
DTEND:20210817T190000
SUMMARY:Huffman's Auctions
LOCATION:313 Walker Street\, Lexington\, VA 24450\, US
DESCRIPTION:PLEASE READ TERMS AND CONDITIONS!!!! We are selling the Esta
 te of Ms. Elizabeth Bowyer. All Items will be picked up afte
 r Auction closing on Wednesday August\, 18th between 12pm and
  6pm. Parking on street only and is very tight. Contact Huff
 man's Auctions for other Pick up information.
URL:https://www.huffmansauctions.com/auctions/detail/bw67689
SEQUENCE:1
END:VEVENT
END:VCALENDAR