BEGIN:VCALENDAR
VERSION:2.0
PRODID:-//ExpressionEngine Easy iCalendar plugin//NONSGML v2.0.0//EN
X-WR-TIMEZONE:America/New_York
X-WR-CALNAME:Upcoming Auctions
BEGIN:VEVENT
UID:63508
DTSTAMP:20210503T200000
DTSTART:20210503T200000
DTEND:20210518T200000
SUMMARY:FULLER ESTATE
LOCATION:401 Houston Street\, Lexington\, VA 24450\, US
DESCRIPTION:Fuller Estate of Lexington VA Online Auction Only. Viewing W
 ednesday 12th of May 4-6PM and Saturday 15th of May 2-4PM. C
 LOSING TUESDAY\, MAY 18TH....PICK UP AT 401 HOUSTON STREET\, L
 EXINGTON ON FRIDAY\, 2 TO 6 P.M. Please bring your paid recei
 pt to pick up merchandise. PLEASE READ ALL TERMS AND CONDITI
 ONS!!!
URL:https://www.huffmansauctions.com/auctions/detail/bw63508
SEQUENCE:1
END:VEVENT
END:VCALENDAR