BEGIN:VCALENDAR
VERSION:2.0
PRODID:-//ExpressionEngine Easy iCalendar plugin//NONSGML v2.0.0//EN
X-WR-TIMEZONE:America/New_York
X-WR-CALNAME:Upcoming Auctions
BEGIN:VEVENT
UID:63139
DTSTAMP:20210423T060000
DTSTART:20210423T060000
DTEND:20210504T200000
SUMMARY:Huffman's Auctions
LOCATION:2463 Beech Ave\, Buena Vista\, VA 24416\, US
DESCRIPTION:Preview: May 2nd 2-4PM @ 2463 Beech Ave\, Buena Vista\, VA 244
 16 Or By Appointments 540-460-3600. PLEASE READ TERMS AND CO
 NDITIONS: ALL Items must be picked up on May 5th and 6th\, un
 less other arrangements are made.
URL:https://www.huffmansauctions.com/auctions/detail/bw63139
SEQUENCE:1
END:VEVENT
END:VCALENDAR