BEGIN:VCALENDAR
VERSION:2.0
PRODID:-//ExpressionEngine Easy iCalendar plugin//NONSGML v2.0.0//EN
X-WR-TIMEZONE:America/New_York
X-WR-CALNAME:Upcoming Auctions
BEGIN:VEVENT
UID:62071
DTSTAMP:20210402T000000
DTSTART:20210402T000000
DTEND:20210414T200000
SUMMARY:Mary Huffman
LOCATION:2463 Beech Ave\, Buena Vista\, VA 24416\, US
DESCRIPTION:Preview times- Sun. April 4th 2 pm till 4 pm or contact for 
 private showing...540-460-3600
URL:https://www.huffmansauctions.com/auctions/detail/bw62071
SEQUENCE:1
END:VEVENT
END:VCALENDAR